BEGIN:VCALENDAR
VERSION:2.0
PRODID:-//Waterborn Hub CIC - ECPv5.12.0//NONSGML v1.0//EN
CALSCALE:GREGORIAN
METHOD:PUBLISH
X-WR-CALNAME:Waterborn Hub CIC
X-ORIGINAL-URL:https://www.waterborn.uk.com
X-WR-CALDESC:Events for Waterborn Hub CIC
BEGIN:VTIMEZONE
TZID:Europe/London
BEGIN:DAYLIGHT
TZOFFSETFROM:+0000
TZOFFSETTO:+0100
TZNAME:BST
DTSTART:20230326T010000
END:DAYLIGHT
BEGIN:STANDARD
TZOFFSETFROM:+0100
TZOFFSETTO:+0000
TZNAME:GMT
DTSTART:20231029T010000
END:STANDARD
END:VTIMEZONE
BEGIN:VEVENT
DTSTART;TZID=Europe/London:20230720T180000
DTEND;TZID=Europe/London:20230720T190000
DTSTAMP:20260423T203001
CREATED:20230628T085522Z
LAST-MODIFIED:20230704T063816Z
UID:9081-1689876000-1689879600@www.waterborn.uk.com
SUMMARY:School/Club Session
DESCRIPTION:Schools and Clubs such as Brownies/Cubs/Scouts/Sea Scout etc are welcome to a 40% Discount to come and enjoy Stand Up Paddleboarding with us. We want to promote safe/fun water activities for juniors to enjoy the great outdoors and this is our way of helping that happen. \nOur school/club sessions typically include: \n\nA dry land Demo\nBasic SUP Tuition\nChallenges and Games\n\nWe also use the best SUP Boards on the market\, Red Paddle Co\, AALA registered\, a British SUP Association school and teach to the highest standards so you can be safe in the knowledge you’re in good hands. \n  \nPlease fill in a session form prior to the event\, this can be found here \nPre-session form
URL:https://www.waterborn.uk.com/event/school-club-session-2/
LOCATION:Slipway by Sports Centre – Kingsbridge\, 1 Promenade\,\, Kingsbridge\, Devon\, TQ7 1HH\, United Kingdom
CATEGORIES:Lessons
ATTACH;FMTTYPE=image/jpeg:https://www.waterborn.uk.com/wp-content/uploads/2019/03/Junior-Club-page-photo-1A.jpg
ORGANIZER;CN="Crispin%20Jones":MAILTO:waterborn@imsmarketing.co.uk
END:VEVENT
END:VCALENDAR